BEGIN:VCALENDAR
VERSION:2.0
PRODID:-//Language Tutors - ECPv6.13.0//NONSGML v1.0//EN
CALSCALE:GREGORIAN
METHOD:PUBLISH
X-ORIGINAL-URL:https://aofrep.org.ar
X-WR-CALDESC:Eventos para Language Tutors
REFRESH-INTERVAL;VALUE=DURATION:PT1H
X-Robots-Tag:noindex
X-PUBLISHED-TTL:PT1H
BEGIN:VTIMEZONE
TZID:UTC
BEGIN:STANDARD
TZOFFSETFROM:+0000
TZOFFSETTO:+0000
TZNAME:UTC
DTSTART:20240101T000000
END:STANDARD
END:VTIMEZONE
BEGIN:VEVENT
DTSTART;VALUE=DATE:20250527
DTEND;VALUE=DATE:20250529
DTSTAMP:20260422T130431
CREATED:20250408T192538Z
LAST-MODIFIED:20250408T195633Z
UID:7756-1748304000-1748476799@aofrep.org.ar
SUMMARY:Patagonia Event Industry Summit
DESCRIPTION:
URL:https://aofrep.org.ar/event/patagonia-event-industry-summit/
LOCATION:Casino Magic\, Dr. Teodoro Luis Planas 4005\,\, Neuquén\, Neuquén\, Q8304
END:VEVENT
BEGIN:VEVENT
DTSTART;TZID=UTC:20240815T093000
DTEND;TZID=UTC:20240815T120000
DTSTAMP:20260422T130431
CREATED:20240722T145757Z
LAST-MODIFIED:20240722T150317Z
UID:6825-1723714200-1723723200@aofrep.org.ar
SUMMARY:Capacitación Reanimación Cardiopulmonar
DESCRIPTION:
URL:https://aofrep.org.ar/event/capacitacion-reanimacion-cardiopulmonar/
LOCATION:Espacio IDEAR\, Mendoza 5846\, CABA\, Buenos Aires\, Argentina
END:VEVENT
END:VCALENDAR